BEGIN:VCALENDAR
VERSION:2.0
PRODID:-//Healthy Moves - ECPv6.15.20//NONSGML v1.0//EN
CALSCALE:GREGORIAN
METHOD:PUBLISH
X-ORIGINAL-URL:https://hm4kids.org
X-WR-CALDESC:Events for Healthy Moves
REFRESH-INTERVAL;VALUE=DURATION:PT1H
X-Robots-Tag:noindex
X-PUBLISHED-TTL:PT1H
BEGIN:VTIMEZONE
TZID:UTC
BEGIN:STANDARD
TZOFFSETFROM:+0000
TZOFFSETTO:+0000
TZNAME:UTC
DTSTART:20200101T000000
END:STANDARD
END:VTIMEZONE
BEGIN:VEVENT
DTSTART;TZID=UTC:20210526T120000
DTEND;TZID=UTC:20210526T210000
DTSTAMP:20260422T014117
CREATED:20210527T003039Z
LAST-MODIFIED:20210527T003039Z
UID:3229-1622030400-1622062800@hm4kids.org
SUMMARY:Grassroots to the Blues - Oakshire Public House
DESCRIPTION:Join us Wednesday\, May 26th from 12-9pm ALL DAY at the Oakshire Brewing Public House. $1 from every beer sold will go to our Healthy Moves programming which helps keep our kids moving and active throughout their school day. Due to school budget cuts\, many PE positions have been eliminated so Healthy Moves trainers work with students and their classroom teachers to demonstrate fitness activities and provide a model for the teacher to use in future PE classes. \nThe Oakshire Public House is located in the Whiteaker neighborhood of Eugene at 207 Madison Street — an eccentric\, artistically inspired part of the city and we are so grateful for their efforts to support local not for profits! So come on by\, have a pint\, and support Healthy Moves!
URL:https://hm4kids.org/event/grassroots-to-the-blues-oakshire-public-house-3
LOCATION:Oakshire Public House\, 207 Madison Street\, Eugene\, OR\, 97402\, United States
CATEGORIES:Grassroots to the Blues
END:VEVENT
END:VCALENDAR