BEGIN:VCALENDAR
VERSION:2.0
PRODID:-//Healthy Moves - ECPv6.15.20//NONSGML v1.0//EN
CALSCALE:GREGORIAN
METHOD:PUBLISH
X-WR-CALNAME:Healthy Moves
X-ORIGINAL-URL:https://hm4kids.org
X-WR-CALDESC:Events for Healthy Moves
REFRESH-INTERVAL;VALUE=DURATION:PT1H
X-Robots-Tag:noindex
X-PUBLISHED-TTL:PT1H
BEGIN:VTIMEZONE
TZID:UTC
BEGIN:STANDARD
TZOFFSETFROM:+0000
TZOFFSETTO:+0000
TZNAME:UTC
DTSTART:20250101T000000
END:STANDARD
END:VTIMEZONE
BEGIN:VEVENT
DTSTART;TZID=UTC:20260123T180000
DTEND;TZID=UTC:20260123T210000
DTSTAMP:20260422T012845
CREATED:20251221T085934Z
LAST-MODIFIED:20251221T085934Z
UID:3891-1769191200-1769202000@hm4kids.org
SUMMARY:Grassroots to the Blues
DESCRIPTION:Join us for a Healthy Moves Dance Party! Territorial Vineyard Wines is hosting a fundraiser featuring Henry Cooper and Friends: Nathan Waddell\, Chad Jensen\, and Pete “The Beat” Burger on Friday\, January 23rd\, 2026\, 6-9 pm. $1 from every glass of wine will go to Healthy Moves and there will be a raffle supported by local businesses from Eugene/Springfield. Come help raise funds for our physical movement programs.
URL:https://hm4kids.org/event/grassroots-to-the-blues
LOCATION:Territorial Vineyards& Wine Company\, 907 W 3rd Ave\, Eugene\, OR\, 97402
CATEGORIES:Grassroots to the Blues
ATTACH;FMTTYPE=image/jpeg:https://hm4kids.org/wp-content/uploads/2025/12/Grassroots-Territorial-ad-Jan26.jpg
END:VEVENT
END:VCALENDAR